BEGIN:VCALENDAR
VERSION:2.0
PRODID:-//Sabre//Sabre VObject 4.5.8//EN
CALSCALE:GREGORIAN
BEGIN:VEVENT
UID:sabre-vobject-33721e27-69d1-42a7-a469-182f969b85a5
DTSTAMP:20260421T174321Z
SUMMARY:Extener Anmeldelink
DESCRIPTION:https://demo-b5.data-factory.net/extener-anmeldelink_id20613
DTSTART;TZID=Europe/Berlin:20251202T090000
DTEND;TZID=Europe/Berlin:20251202T180000
LOCATION::data factory GmbH\, Dr.-Karl-Lexer-Weg B300\, 86633 Neuburg an de
 r Donau
END:VEVENT
END:VCALENDAR
