BEGIN:VCALENDAR
VERSION:2.0
PRODID:-//Sabre//Sabre VObject 4.5.8//EN
CALSCALE:GREGORIAN
BEGIN:VEVENT
UID:sabre-vobject-e29d1105-022c-46c8-bf59-1f8958a57627
DTSTAMP:20260424T210305Z
SUMMARY:Öffnungszeiten
DESCRIPTION:https://demo-b5.data-factory.net/oeffnungszeiten_id21689
DTSTART;TZID=Europe/Berlin:20250321T000000
DURATION:PT30M
LOCATION:Europa-Park\, Europa-Park-Straße 2\, 77977 Rust
END:VEVENT
END:VCALENDAR
