BEGIN:VCALENDAR
VERSION:2.0
PRODID:-//Sabre//Sabre VObject 4.5.8//EN
CALSCALE:GREGORIAN
BEGIN:VEVENT
UID:sabre-vobject-b5547253-ec8c-441c-a868-0278d20e7614
DTSTAMP:20260424T211437Z
SUMMARY:Teilnahmelink
DESCRIPTION:https://demo-b5.data-factory.net/teilnahmelink_id21696
DTSTART;TZID=Europe/Berlin:20250321T000000
DURATION:PT30M
LOCATION:Europa-Park\, Europa-Park-Straße 2\, 77977 Rust
END:VEVENT
END:VCALENDAR
