BEGIN:VCALENDAR
VERSION:2.0
PRODID:-//Sabre//Sabre VObject 4.5.8//EN
CALSCALE:GREGORIAN
BEGIN:VEVENT
UID:sabre-vobject-78a476ce-e9e7-465d-8b35-715930cdbf8c
DTSTAMP:20260420T103322Z
SUMMARY:Jubiläumskonzert „50 Jahre Musikschule“
DESCRIPTION:https://demo-b5.data-factory.net/jubilaeumskonzert-50-jahre-mus
 ikschule_id24837
DTSTART;TZID=Europe/Berlin:20240505T170000
DURATION:PT30M
LOCATION:Festsaal des Stadttheaters Ingolstadt\, Schloßlände 1\, 85049 In
 golstadt
END:VEVENT
END:VCALENDAR
