BEGIN:VCALENDAR
VERSION:2.0
PRODID:-//Sabre//Sabre VObject 4.5.8//EN
CALSCALE:GREGORIAN
BEGIN:VEVENT
UID:sabre-vobject-cf12eb86-d57e-41d0-84b8-bcab4786bc99
DTSTAMP:20260420T102620Z
SUMMARY:Georgisches Kammerorchester Ingolstadt 10. ABO Konzert
DESCRIPTION:https://demo-b5.data-factory.net/georgisches-kammerorchester-in
 golstadt-10-abo-konzert_id24865
DTSTART;TZID=Europe/Berlin:20240613T200000
DURATION:PT30M
LOCATION:Festsaal des Stadttheaters Ingolstadt\, Schloßlände 1\, 85049 In
 golstadt
END:VEVENT
END:VCALENDAR
