BEGIN:VCALENDAR
VERSION:2.0
PRODID:-//Sabre//Sabre VObject 4.5.8//EN
CALSCALE:GREGORIAN
BEGIN:VEVENT
UID:sabre-vobject-07c29aef-5509-462b-93ec-464bba8968a8
DTSTAMP:20260420T131141Z
SUMMARY:Bücherwürmchen
DESCRIPTION:https://demo-b5.data-factory.net/buecherwuermchen_id24867
DTSTART;TZID=Europe/Berlin:20240618T093000
DTEND;TZID=Europe/Berlin:20240618T103000
LOCATION:Stadtteilbücherei Südwest\, Maximilianstraße 25\, 85051 Ingolst
 adt
END:VEVENT
END:VCALENDAR
