BEGIN:VCALENDAR
VERSION:2.0
PRODID:-//Sabre//Sabre VObject 4.5.8//EN
CALSCALE:GREGORIAN
BEGIN:VEVENT
UID:sabre-vobject-55bac1b2-050c-4386-b614-c7f468744226
DTSTAMP:20260420T144210Z
SUMMARY:Führung durch das Kavalier Dalwigk
DESCRIPTION:https://demo-b5.data-factory.net/fuehrung-durch-das-kavalier-da
 lwigk_id24868
DTSTART;TZID=Europe/Berlin:20240621T160000
DTEND;TZID=Europe/Berlin:20240621T170000
LOCATION:Kavalier Dalwigk\, Schlosslände 26\, 85049 Ingolstadt
END:VEVENT
END:VCALENDAR
