BEGIN:VCALENDAR
VERSION:2.0
PRODID:-//Sabre//Sabre VObject 4.5.8//EN
CALSCALE:GREGORIAN
BEGIN:VEVENT
UID:sabre-vobject-9d54ee68-fd19-455c-9ac0-88408da725e9
DTSTAMP:20260420T162201Z
SUMMARY:Bücherwürmchen
DESCRIPTION:https://demo-b5.data-factory.net/buecherwuermchen_id24869
DTSTART;TZID=Europe/Berlin:20240625T093000
DTEND;TZID=Europe/Berlin:20240625T103000
LOCATION:Stadtteilbücherei Südwest\, Maximilianstraße 25\, 85051 Ingolst
 adt
END:VEVENT
END:VCALENDAR
