BEGIN:VCALENDAR
VERSION:2.0
PRODID:-//Sabre//Sabre VObject 4.5.8//EN
CALSCALE:GREGORIAN
BEGIN:VEVENT
UID:sabre-vobject-58ae6327-c84b-41ab-997e-efd9d3911d33
DTSTAMP:20260422T104338Z
SUMMARY:Führung durch das Kavalier Dalwigk
DESCRIPTION:https://demo-b5.data-factory.net/fuehrung-durch-das-kavalier-da
 lwigk_id24870
DTSTART;TZID=Europe/Berlin:20240628T160000
DTEND;TZID=Europe/Berlin:20240628T170000
LOCATION:Kavalier Dalwigk\, Schlosslände 26\, 85049 Ingolstadt
END:VEVENT
END:VCALENDAR
