BEGIN:VCALENDAR
VERSION:2.0
PRODID:-//Sabre//Sabre VObject 4.5.8//EN
CALSCALE:GREGORIAN
BEGIN:VEVENT
UID:sabre-vobject-e84222ef-6fcd-40e6-abae-b2fc27d78166
DTSTAMP:20260422T121538Z
SUMMARY:Führung durch das Kavalier Dalwigk
DESCRIPTION:https://demo-b5.data-factory.net/fuehrung-durch-das-kavalier-da
 lwigk_id24871
DTSTART;TZID=Europe/Berlin:20240705T160000
DTEND;TZID=Europe/Berlin:20240705T170000
LOCATION:Kavalier Dalwigk\, Schlosslände 26\, 85049 Ingolstadt
END:VEVENT
END:VCALENDAR
