BEGIN:VCALENDAR
VERSION:2.0
PRODID:-//Sabre//Sabre VObject 4.5.8//EN
CALSCALE:GREGORIAN
BEGIN:VEVENT
UID:sabre-vobject-a3f72078-61c3-43f4-8996-4fa810f9ae01
DTSTAMP:20260422T153043Z
SUMMARY:Büchergeister
DESCRIPTION:https://demo-b5.data-factory.net/buechergeister_id24873
DTSTART;TZID=Europe/Berlin:20240711T160000
DURATION:PT30M
LOCATION:Stadtbücherei im Herzogskasten\, Hallstraße 2 - 4\, 85049 Ingols
 tadt
END:VEVENT
END:VCALENDAR
