BEGIN:VCALENDAR
VERSION:2.0
PRODID:-//Sabre//Sabre VObject 4.5.8//EN
CALSCALE:GREGORIAN
BEGIN:VEVENT
UID:sabre-vobject-307a4aab-7c1e-46bb-a9a7-062a25240904
DTSTAMP:20260422T183812Z
SUMMARY:Führung durch das Kavalier Dalwigk
DESCRIPTION:https://demo-b5.data-factory.net/fuehrung-durch-das-kavalier-da
 lwigk_id24875
DTSTART;TZID=Europe/Berlin:20240719T160000
DTEND;TZID=Europe/Berlin:20240719T170000
LOCATION:Kavalier Dalwigk\, Schlosslände 26\, 85049 Ingolstadt
END:VEVENT
END:VCALENDAR
