BEGIN:VCALENDAR
VERSION:2.0
PRODID:-//Sabre//Sabre VObject 4.5.8//EN
CALSCALE:GREGORIAN
BEGIN:VEVENT
UID:sabre-vobject-5ec28594-d734-47cd-b05d-9adcb75ee9d7
DTSTAMP:20260422T235140Z
SUMMARY:Georgisches Kammerorchester Ingolstadt 2. ABO Open-Air Konzert
DESCRIPTION:https://demo-b5.data-factory.net/georgisches-kammerorchester-in
 golstadt-2-abo-open-air-konzert_id24879
DTSTART;TZID=Europe/Berlin:20240728T203000
DURATION:PT30M
LOCATION:Turm Baur\, Brückenkopf 14\, 85051 Ingolstadt
END:VEVENT
END:VCALENDAR
