BEGIN:VCALENDAR
VERSION:2.0
PRODID:-//Sabre//Sabre VObject 4.5.8//EN
CALSCALE:GREGORIAN
BEGIN:VEVENT
UID:sabre-vobject-0ffbf661-9d3d-4171-939b-f42dc3d0552b
DTSTAMP:20260423T044047Z
SUMMARY:Führung durch das Kavalier Dalwigk
DESCRIPTION:https://demo-b5.data-factory.net/fuehrung-durch-das-kavalier-da
 lwigk_id24882
DTSTART;TZID=Europe/Berlin:20240816T160000
DTEND;TZID=Europe/Berlin:20240816T170000
LOCATION:Kavalier Dalwigk\, Schlosslände 26\, 85049 Ingolstadt
END:VEVENT
END:VCALENDAR
