BEGIN:VCALENDAR
VERSION:2.0
PRODID:-//Sabre//Sabre VObject 4.5.8//EN
CALSCALE:GREGORIAN
BEGIN:VEVENT
UID:sabre-vobject-81a503d0-c3c5-4f42-8e0a-3728560fdf0e
DTSTAMP:20260424T190944Z
SUMMARY:Mitwirkende
DESCRIPTION:https://demo-b5.data-factory.net/mitwirkende_id24996
DTSTART;TZID=Europe/Berlin:20250321T000000
DURATION:PT30M
LOCATION:Europa-Park\, Europa-Park-Straße 2\, 77977 Rust
END:VEVENT
END:VCALENDAR
