BEGIN:VCALENDAR
VERSION:2.0
PRODID:-//Sabre//Sabre VObject 4.5.8//EN
CALSCALE:GREGORIAN
BEGIN:VEVENT
UID:sabre-vobject-6ed1843d-ef8d-48c9-9234-79740d0ed3f9
DTSTAMP:20260424T203254Z
SUMMARY:ElektroVibes Night
DESCRIPTION:https://demo-b5.data-factory.net/elektrovibes-night_id25001
DTSTART;TZID=Europe/Berlin:20270708T000000
DURATION:PT30M
LOCATION:Marienplatz\, Marienplatz\, 80331 München
END:VEVENT
END:VCALENDAR
