BEGIN:VCALENDAR
VERSION:2.0
PRODID:-//Sabre//Sabre VObject 4.5.8//EN
CALSCALE:GREGORIAN
BEGIN:VEVENT
UID:sabre-vobject-d6740a2b-130c-4d55-9f3c-d610af1d017a
DTSTAMP:20260424T223352Z
SUMMARY:Klassik im Schloss
DESCRIPTION:https://demo-b5.data-factory.net/klassik-im-schloss_id25002
DTSTART;TZID=Europe/Berlin:20240912T193000
DTEND;TZID=Europe/Berlin:20270701T000000
LOCATION:Schloss Linderhof\, Linderhof 12\, 82488 Ettal
END:VEVENT
END:VCALENDAR
