BEGIN:VCALENDAR
VERSION:2.0
PRODID:-//Sabre//Sabre VObject 4.5.8//EN
CALSCALE:GREGORIAN
BEGIN:VEVENT
UID:sabre-vobject-88902daa-4c4a-4b51-a53e-d478fca796db
DTSTAMP:20260424T202628Z
SUMMARY:Reggae Sunset Session
DESCRIPTION:https://demo-b5.data-factory.net/reggae-sunset-session_id25003
DTSTART;TZID=Europe/Berlin:20270609T170000
DURATION:PT30M
LOCATION:Marienplatz\, Marienplatz\, 80331 München
END:VEVENT
END:VCALENDAR
