BEGIN:VCALENDAR
VERSION:2.0
PRODID:-//Sabre//Sabre VObject 4.5.8//EN
CALSCALE:GREGORIAN
BEGIN:VEVENT
UID:sabre-vobject-6affd860-955a-4632-a49c-013d94cd67ec
DTSTAMP:20260424T203000Z
SUMMARY:Sonnenklang Musik-Festival 2024
DESCRIPTION:https://demo-b5.data-factory.net/sonnenklang-musik-festival-202
 4_id25633
DTSTART;TZID=Europe/Berlin:20280811T000000
DTEND;TZID=Europe/Berlin:20280813T000000
LOCATION:Kölner Dom\, Domkloster 4\, 50667 Köln
END:VEVENT
END:VCALENDAR
