BEGIN:VCALENDAR
VERSION:2.0
PRODID:-//Sabre//Sabre VObject 4.5.8//EN
CALSCALE:GREGORIAN
BEGIN:VEVENT
UID:sabre-vobject-c2bf3078-1d6f-408f-bd94-2650f727a307
DTSTAMP:20260425T101045Z
SUMMARY:Pop-Magie Gala
DESCRIPTION:https://demo-b5.data-factory.net/pop-magie-gala_id25713
DTSTART;TZID=Europe/Berlin:20261221T200000
DURATION:PT30M
LOCATION:Marienplatz\, Marienplatz\, 80331 München
END:VEVENT
END:VCALENDAR
