BEGIN:VCALENDAR
VERSION:2.0
PRODID:-//Sabre//Sabre VObject 4.5.8//EN
CALSCALE:GREGORIAN
BEGIN:VEVENT
UID:sabre-vobject-49032127-561c-4ede-8e6a-480ebc6a2d39
DTSTAMP:20260421T173341Z
SUMMARY:Bild im Inhalt links
DESCRIPTION:https://demo-b5.data-factory.net/bild-im-inhalt-links_id4262
DTSTART;TZID=Europe/Berlin:20250321T000000
DURATION:PT30M
LOCATION:Europa-Park\, Europa-Park-Straße 2\, 77977 Rust
END:VEVENT
END:VCALENDAR
