BEGIN:VCALENDAR
VERSION:2.0
PRODID:-//Sabre//Sabre VObject 4.5.8//EN
CALSCALE:GREGORIAN
BEGIN:VEVENT
UID:sabre-vobject-55be9ccb-de52-4a66-8682-d377ffaaacd9
DTSTAMP:20260424T192101Z
SUMMARY:Bild oberhalb der Überschrift
DESCRIPTION:https://demo-b5.data-factory.net/bild-oberhalb-der-ueberschrift
 _id4263
DTSTART;TZID=Europe/Berlin:20250321T000000
DURATION:PT30M
LOCATION:Europa-Park\, Europa-Park-Straße 2\, 77977 Rust
END:VEVENT
END:VCALENDAR
