BEGIN:VCALENDAR
VERSION:2.0
PRODID:-//Sabre//Sabre VObject 4.5.8//EN
CALSCALE:GREGORIAN
BEGIN:VEVENT
UID:sabre-vobject-eea1c05a-23e0-495f-9db3-f6b111cebbc4
DTSTAMP:20260424T190831Z
SUMMARY:Bild unterhalb der Überschrift
DESCRIPTION:https://demo-b5.data-factory.net/bild-unterhalb-der-ueberschrif
 t_id4264
DTSTART;TZID=Europe/Berlin:20250321T000000
DURATION:PT30M
LOCATION:Europa-Park\, Europa-Park-Straße 2\, 77977 Rust
END:VEVENT
END:VCALENDAR
