BEGIN:VCALENDAR
VERSION:2.0
PRODID:-//Sabre//Sabre VObject 4.5.8//EN
CALSCALE:GREGORIAN
BEGIN:VEVENT
UID:sabre-vobject-41249624-2376-4c15-bf0c-6310bd576e90
DTSTAMP:20260421T152053Z
SUMMARY:Kein Bild
DESCRIPTION:https://demo-b5.data-factory.net/kein-bild_id4266
DTSTART;TZID=Europe/Berlin:20250321T000000
DURATION:PT30M
LOCATION:Europa-Park\, Europa-Park-Straße 2\, 77977 Rust
END:VEVENT
END:VCALENDAR
